BEGIN:VCALENDAR
VERSION:2.0
PRODID:spatie/icalendar-generator
DESCRIPTION:Events from AUSTRIAN LEGACY LEAGUE
X-WR-CALDESC:Events from AUSTRIAN LEGACY LEAGUE
REFRESH-INTERVAL;VALUE=DURATION:PT1440M
X-PUBLISHED-TTL:PT1440M
BEGIN:VTIMEZONE
TZID:Etc/GMT-1
BEGIN:STANDARD
DTSTART:20240212T000000Z
TZOFFSETFROM:+0100
TZOFFSETTO:+0100
END:STANDARD
END:VTIMEZONE
BEGIN:VTIMEZONE
TZID:UTC
BEGIN:STANDARD
DTSTART:20250726T103631Z
TZOFFSETFROM:+0000
TZOFFSETTO:+0000
END:STANDARD
END:VTIMEZONE
BEGIN:VEVENT
UID:46-3
DTSTAMP:20260422T103631Z
SUMMARY:Foundations Pre-Release
LOCATION:Game Store Friedrichstraße 2  Linz Upper Austria 4040
ORGANIZER;CN=ALL:MAILTO:austrian-legacy@gmx.at
DTSTART;TZID=Etc/GMT-1;VALUE=DATE:20241108
DTEND;TZID=Etc/GMT-1;VALUE=DATE:20241111
X-ALT-DESC;FMTTYPE=TEXT/HTML:Pre-Release Events of the new edition take pla
 ce - no weekly Legacy tournament. Please visit the website of our location
  for a more detailed schedule: http://magic-linz.at/
CATEGORIES:Austrian Legacy Masters Tournament
URL;VALUE=URI:https://austrian-legacy.com/mc-events/foundations-pre-release
 /
METHOD:PUBLISH
END:VEVENT
END:VCALENDAR